BEGIN:VCALENDAR
VERSION:2.0
X-WR-CALNAME: COB
PRODID:GIGPRESS 2.0 WORDPRESS PLUGIN
CALSCALE:GREGORIAN
X-WR-TIMEZONE:Etc/GMT
METHOD:PUBLISH
BEGIN:VTIMEZONE
TZID:GMT
BEGIN:STANDARD
DTSTART:20071028T010000
TZOFFSETTO:+0000
TZOFFSETFROM:+0000
END:STANDARD
END:VTIMEZONE
BEGIN:VEVENT
SUMMARY:COB \, Kunstfabrik Schlot
DESCRIPTION:Anmerkungen: Präsentation unserer neuen CD "Telling Stories" 
LOCATION:Kunstfabrik Schlot\, Invalidenstraße 117 - Edisonhöfe\, Berlin-Mitte\, DE
UID:20260509T190000Z-476-mail2tian@gmail.com
URL:https://christian-korthals.de
DTSTART;VALUE=DATE-TIME;TZID=GMT:20260509T190000Z
DTEND;VALUE=DATE-TIME;TZID=GMT:20260509T190000Z
DTSTAMP:20260422T083913Z
END:VEVENT
BEGIN:VEVENT
SUMMARY:COB \, Kunstfabrik Schlot
DESCRIPTION:Anmerkungen: Präsentation unserer neuen CD "Telling Stories" 
LOCATION:Kunstfabrik Schlot\, Invalidenstraße 117 - Edisonhöfe\, Berlin-Mitte\, DE
UID:20260619T190000Z-479-mail2tian@gmail.com
URL:https://christian-korthals.de
DTSTART;VALUE=DATE-TIME;TZID=GMT:20260619T190000Z
DTEND;VALUE=DATE-TIME;TZID=GMT:20260619T190000Z
DTSTAMP:20260422T083913Z
END:VEVENT
END:VCALENDAR